Package: CardinalIO Version: 1.5.0 Command: chmod a+r CardinalIO -R && E:\biocbuild\bbs-3.21-bioc\R\bin\R.exe CMD build --keep-empty-dirs --no-resave-data CardinalIO StartedAt: 2025-02-09 17:39:46 -0500 (Sun, 09 Feb 2025) EndedAt: 2025-02-09 17:40:45 -0500 (Sun, 09 Feb 2025) EllapsedTime: 58.9 seconds RetCode: 0 Status: OK PackageFile: CardinalIO_1.5.0.tar.gz PackageFileSize: 939.3 KiB