Package: CardinalIO Version: 1.5.0 Command: E:\biocbuild\bbs-3.21-bioc\R\bin\R.exe CMD check --no-multiarch --install=check:CardinalIO.install-out.txt --library=E:\biocbuild\bbs-3.21-bioc\R\library --no-vignettes --timings CardinalIO_1.5.0.tar.gz StartedAt: 2025-02-03 23:49:40 -0500 (Mon, 03 Feb 2025) EndedAt: 2025-02-03 23:51:43 -0500 (Mon, 03 Feb 2025) EllapsedTime: 122.5 seconds RetCode: 0 Status: OK CheckDir: CardinalIO.Rcheck Warnings: 0