Package: CardinalIO Version: 1.5.0 Command: E:\biocbuild\bbs-3.21-bioc\R\bin\R.exe CMD INSTALL CardinalIO StartedAt: 2025-02-03 15:58:21 -0500 (Mon, 03 Feb 2025) EndedAt: 2025-02-03 15:59:10 -0500 (Mon, 03 Feb 2025) EllapsedTime: 48.7 seconds RetCode: 0 Status: OK