Package: Category Version: 2.73.0 Command: /Library/Frameworks/R.framework/Resources/bin/R CMD build --keep-empty-dirs --no-resave-data Category StartedAt: 2025-02-09 16:10:26 -0500 (Sun, 09 Feb 2025) EndedAt: 2025-02-09 16:11:52 -0500 (Sun, 09 Feb 2025) EllapsedTime: 86.7 seconds RetCode: 0 Status: OK PackageFile: Category_2.73.0.tar.gz PackageFileSize: 875.1 KiB