Package: Category Version: 2.73.0 Command: /home/biocbuild/bbs-3.21-bioc/R/bin/R CMD check --install=check:Category.install-out.txt --library=/home/biocbuild/bbs-3.21-bioc/R/site-library --timings Category_2.73.0.tar.gz StartedAt: 2025-02-09 20:41:11 -0500 (Sun, 09 Feb 2025) EndedAt: 2025-02-09 20:45:47 -0500 (Sun, 09 Feb 2025) EllapsedTime: 276.3 seconds RetCode: 0 Status: OK CheckDir: Category.Rcheck Warnings: 0