Package: Category Version: 2.73.0 Command: chmod a+r Category -R && E:\biocbuild\bbs-3.21-bioc\R\bin\R.exe CMD build --keep-empty-dirs --no-resave-data Category StartedAt: 2025-02-09 17:40:22 -0500 (Sun, 09 Feb 2025) EndedAt: 2025-02-09 17:42:59 -0500 (Sun, 09 Feb 2025) EllapsedTime: 157.6 seconds RetCode: 0 Status: OK PackageFile: Category_2.73.0.tar.gz PackageFileSize: 864.2 KiB