Package: Category Version: 2.73.0 Command: E:\biocbuild\bbs-3.21-bioc\R\bin\R.exe CMD check --no-multiarch --install=check:Category.install-out.txt --library=E:\biocbuild\bbs-3.21-bioc\R\library --no-vignettes --timings Category_2.73.0.tar.gz StartedAt: 2025-02-09 23:21:51 -0500 (Sun, 09 Feb 2025) EndedAt: 2025-02-09 23:27:39 -0500 (Sun, 09 Feb 2025) EllapsedTime: 348.7 seconds RetCode: 0 Status: OK CheckDir: Category.Rcheck Warnings: 0