Package: CatsCradle Version: 1.1.1 Command: /Library/Frameworks/R.framework/Resources/bin/R CMD check --install=check:CatsCradle.install-out.txt --library=/Library/Frameworks/R.framework/Resources/library --no-vignettes --timings CatsCradle_1.1.1.tar.gz StartedAt: 2025-02-12 18:25:35 -0500 (Wed, 12 Feb 2025) EndedAt: 2025-02-12 18:28:58 -0500 (Wed, 12 Feb 2025) EllapsedTime: 203.6 seconds RetCode: 0 Status: WARNINGS CheckDir: CatsCradle.Rcheck Warnings: 2