Package: CatsCradle Version: 1.1.1 Command: rm -rf CatsCradle.buildbin-libdir && mkdir CatsCradle.buildbin-libdir && /Users/biocbuild/BBS/utils/build-universal.sh CatsCradle_1.1.1.tar.gz /Library/Frameworks/R.framework/Resources/bin/R CatsCradle.buildbin-libdir StartedAt: 2025-02-13 00:28:36 -0500 (Thu, 13 Feb 2025) EndedAt: 2025-02-13 00:29:33 -0500 (Thu, 13 Feb 2025) EllapsedTime: 56.5 seconds RetCode: 0 Status: OK PackageFile: CatsCradle_1.1.1.tgz PackageFileSize: 8.39 MiB