Package: CatsCradle Version: 1.1.0 Command: /Library/Frameworks/R.framework/Resources/bin/R CMD build --keep-empty-dirs --no-resave-data CatsCradle StartedAt: 2025-02-09 16:10:29 -0500 (Sun, 09 Feb 2025) EndedAt: 2025-02-09 16:17:24 -0500 (Sun, 09 Feb 2025) EllapsedTime: 414.6 seconds RetCode: 0 Status: OK PackageFile: CatsCradle_1.1.0.tar.gz PackageFileSize: 8.388 MiB