Package: CatsCradle Version: 1.1.0 Command: chmod a+r CatsCradle -R && E:\biocbuild\bbs-3.21-bioc\R\bin\R.exe CMD build --keep-empty-dirs --no-resave-data CatsCradle StartedAt: 2025-02-09 17:40:43 -0500 (Sun, 09 Feb 2025) EndedAt: 2025-02-09 17:50:18 -0500 (Sun, 09 Feb 2025) EllapsedTime: 574.6 seconds RetCode: 0 Status: OK PackageFile: CatsCradle_1.1.0.tar.gz PackageFileSize: 3.122 MiB