Package: CatsCradle Version: 1.1.0 Command: E:\biocbuild\bbs-3.21-bioc\R\bin\R.exe CMD check --no-multiarch --install=check:CatsCradle.install-out.txt --library=E:\biocbuild\bbs-3.21-bioc\R\library --no-vignettes --timings CatsCradle_1.1.0.tar.gz StartedAt: 2025-02-09 23:22:40 -0500 (Sun, 09 Feb 2025) EndedAt: 2025-02-09 23:33:07 -0500 (Sun, 09 Feb 2025) EllapsedTime: 627.2 seconds RetCode: 0 Status: WARNINGS CheckDir: CatsCradle.Rcheck Warnings: 1