Package: CeTF Version: 1.19.0 Command: rm -rf CeTF.buildbin-libdir && mkdir CeTF.buildbin-libdir && /Users/biocbuild/BBS/utils/build-universal.sh CeTF_1.19.0.tar.gz /Library/Frameworks/R.framework/Resources/bin/R CeTF.buildbin-libdir StartedAt: 2025-02-09 22:08:51 -0500 (Sun, 09 Feb 2025) EndedAt: 2025-02-09 22:09:14 -0500 (Sun, 09 Feb 2025) EllapsedTime: 22.4 seconds RetCode: 0 Status: OK PackageFile: CeTF_1.19.0.tgz PackageFileSize: 4.221 MiB