Package: CeTF Version: 1.19.0 Command: /Library/Frameworks/R.framework/Resources/bin/R CMD build --keep-empty-dirs --no-resave-data CeTF StartedAt: 2025-02-12 15:51:08 -0500 (Wed, 12 Feb 2025) EndedAt: 2025-02-12 15:52:09 -0500 (Wed, 12 Feb 2025) EllapsedTime: 60.6 seconds RetCode: 0 Status: OK PackageFile: CeTF_1.19.0.tar.gz PackageFileSize: 4.174 MiB