Package: CeTF Version: 1.19.0 Command: /Library/Frameworks/R.framework/Resources/bin/R CMD check --install=check:CeTF.install-out.txt --library=/Library/Frameworks/R.framework/Resources/library --no-vignettes --timings CeTF_1.19.0.tar.gz StartedAt: 2025-02-12 18:28:58 -0500 (Wed, 12 Feb 2025) EndedAt: 2025-02-12 18:30:57 -0500 (Wed, 12 Feb 2025) EllapsedTime: 118.5 seconds RetCode: 0 Status: OK CheckDir: CeTF.Rcheck Warnings: 0