Package: CeTF Version: 1.19.0 Command: /home/biocbuild/R/R/bin/R CMD build --keep-empty-dirs --no-resave-data CeTF StartedAt: 2025-01-28 21:43:25 -0000 (Tue, 28 Jan 2025) EndedAt: 2025-01-28 21:47:23 -0000 (Tue, 28 Jan 2025) EllapsedTime: 238.1 seconds RetCode: 0 Status: OK PackageFile: CeTF_1.19.0.tar.gz PackageFileSize: 3.007 MiB