Package: CeTF Version: 1.19.0 Command: /home/biocbuild/R/R/bin/R CMD check --install=check:CeTF.install-out.txt --library=/home/biocbuild/R/R/site-library --no-vignettes --timings CeTF_1.19.0.tar.gz StartedAt: 2025-01-28 09:03:53 -0000 (Tue, 28 Jan 2025) EndedAt: 2025-01-28 09:10:20 -0000 (Tue, 28 Jan 2025) EllapsedTime: 387.4 seconds RetCode: 0 Status: OK CheckDir: CeTF.Rcheck Warnings: 0