Package: CeTF Version: 1.19.0 Command: /home/biocbuild/R/R/bin/R CMD INSTALL CeTF StartedAt: 2025-01-29 20:34:52 -0000 (Wed, 29 Jan 2025) EndedAt: 2025-01-29 20:36:17 -0000 (Wed, 29 Jan 2025) EllapsedTime: 85.0 seconds RetCode: 0 Status: OK