Package: CeTF Version: 1.19.0 Command: /home/biocbuild/bbs-3.21-bioc/R/bin/R CMD build --keep-empty-dirs --no-resave-data CeTF StartedAt: 2025-02-09 16:35:33 -0500 (Sun, 09 Feb 2025) EndedAt: 2025-02-09 16:38:10 -0500 (Sun, 09 Feb 2025) EllapsedTime: 157.2 seconds RetCode: 0 Status: OK PackageFile: CeTF_1.19.0.tar.gz PackageFileSize: 3.817 MiB