Package: CeTF Version: 1.19.0 Command: /home/biocbuild/bbs-3.21-bioc/R/bin/R CMD check --install=check:CeTF.install-out.txt --library=/home/biocbuild/bbs-3.21-bioc/R/site-library --timings CeTF_1.19.0.tar.gz StartedAt: 2025-02-09 20:48:41 -0500 (Sun, 09 Feb 2025) EndedAt: 2025-02-09 20:55:33 -0500 (Sun, 09 Feb 2025) EllapsedTime: 412.7 seconds RetCode: 0 Status: OK CheckDir: CeTF.Rcheck Warnings: 0