Package: CeTF Version: 1.19.0 Command: /home/biocbuild/bbs-3.21-bioc/R/bin/R CMD INSTALL CeTF StartedAt: 2025-02-09 15:45:54 -0500 (Sun, 09 Feb 2025) EndedAt: 2025-02-09 15:46:53 -0500 (Sun, 09 Feb 2025) EllapsedTime: 58.5 seconds RetCode: 0 Status: OK