Package: CeTF Version: 1.19.0 Command: rm -rf CeTF.buildbin-libdir && mkdir CeTF.buildbin-libdir && E:\biocbuild\bbs-3.21-bioc\R\bin\R.exe CMD INSTALL --build --library=CeTF.buildbin-libdir CeTF_1.19.0.tar.gz StartedAt: 2025-02-10 07:25:01 -0500 (Mon, 10 Feb 2025) EndedAt: 2025-02-10 07:26:44 -0500 (Mon, 10 Feb 2025) EllapsedTime: 102.5 seconds RetCode: 0 Status: OK PackageFile: CeTF_1.19.0.zip PackageFileSize: 3.239 MiB