Package: CeTF Version: 1.19.0 Command: chmod a+r CeTF -R && E:\biocbuild\bbs-3.21-bioc\R\bin\R.exe CMD build --keep-empty-dirs --no-resave-data CeTF StartedAt: 2025-02-09 17:45:53 -0500 (Sun, 09 Feb 2025) EndedAt: 2025-02-09 17:49:25 -0500 (Sun, 09 Feb 2025) EllapsedTime: 212.6 seconds RetCode: 0 Status: OK PackageFile: CeTF_1.19.0.tar.gz PackageFileSize: 2.85 MiB