Package: CeTF Version: 1.19.0 Command: E:\biocbuild\bbs-3.21-bioc\R\bin\R.exe CMD check --no-multiarch --install=check:CeTF.install-out.txt --library=E:\biocbuild\bbs-3.21-bioc\R\library --no-vignettes --timings CeTF_1.19.0.tar.gz StartedAt: 2025-02-09 23:31:41 -0500 (Sun, 09 Feb 2025) EndedAt: 2025-02-09 23:37:43 -0500 (Sun, 09 Feb 2025) EllapsedTime: 362.4 seconds RetCode: 0 Status: OK CheckDir: CeTF.Rcheck Warnings: 0