Package: CellBarcode Version: 1.13.1 Command: /Library/Frameworks/R.framework/Resources/bin/R CMD INSTALL CellBarcode StartedAt: 2025-02-03 15:47:23 -0500 (Mon, 03 Feb 2025) EndedAt: 2025-02-03 15:47:42 -0500 (Mon, 03 Feb 2025) EllapsedTime: 19.2 seconds RetCode: 0 Status: OK