Package: CellBarcode Version: 1.13.1 Command: /home/biocbuild/R/R/bin/R CMD build --keep-empty-dirs --no-resave-data CellBarcode StartedAt: 2025-01-28 21:37:37 -0000 (Tue, 28 Jan 2025) EndedAt: 2025-01-28 21:39:53 -0000 (Tue, 28 Jan 2025) EllapsedTime: 136.0 seconds RetCode: 0 Status: OK PackageFile: CellBarcode_1.13.1.tar.gz PackageFileSize: 2.653 MiB