Package: CellBarcode Version: 1.13.1 Command: /home/biocbuild/R/R/bin/R CMD check --install=check:CellBarcode.install-out.txt --library=/home/biocbuild/R/R/site-library --no-vignettes --timings CellBarcode_1.13.1.tar.gz StartedAt: 2025-01-28 08:59:43 -0000 (Tue, 28 Jan 2025) EndedAt: 2025-01-28 09:05:08 -0000 (Tue, 28 Jan 2025) EllapsedTime: 325.3 seconds RetCode: 0 Status: OK CheckDir: CellBarcode.Rcheck Warnings: 0