Package: CellBarcode Version: 1.13.1 Command: /home/biocbuild/R/R/bin/R CMD INSTALL CellBarcode StartedAt: 2025-01-29 19:59:07 -0000 (Wed, 29 Jan 2025) EndedAt: 2025-01-29 20:00:37 -0000 (Wed, 29 Jan 2025) EllapsedTime: 89.8 seconds RetCode: 0 Status: OK