Package: CellBarcode Version: 1.13.1 Command: rm -rf CellBarcode.buildbin-libdir && mkdir CellBarcode.buildbin-libdir && /Users/biocbuild/BBS/utils/build-universal.sh CellBarcode_1.13.1.tar.gz /Library/Frameworks/R.framework/Resources/bin/R CellBarcode.buildbin-libdir StartedAt: 2025-02-10 00:45:31 -0500 (Mon, 10 Feb 2025) EndedAt: 2025-02-10 00:46:50 -0500 (Mon, 10 Feb 2025) EllapsedTime: 78.5 seconds RetCode: 0 Status: OK PackageFile: CellBarcode_1.13.1.tgz PackageFileSize: 3.706 MiB