Package: CellBarcode Version: 1.13.1 Command: /home/biocbuild/bbs-3.21-bioc/R/bin/R CMD check --install=check:CellBarcode.install-out.txt --library=/home/biocbuild/bbs-3.21-bioc/R/site-library --timings CellBarcode_1.13.1.tar.gz StartedAt: 2025-02-09 20:44:52 -0500 (Sun, 09 Feb 2025) EndedAt: 2025-02-09 20:49:52 -0500 (Sun, 09 Feb 2025) EllapsedTime: 299.4 seconds RetCode: 0 Status: OK CheckDir: CellBarcode.Rcheck Warnings: 0