Package: CellBarcode Version: 1.13.1 Command: chmod a+r CellBarcode -R && E:\biocbuild\bbs-3.21-bioc\R\bin\R.exe CMD build --keep-empty-dirs --no-resave-data CellBarcode StartedAt: 2025-02-03 17:55:32 -0500 (Mon, 03 Feb 2025) EndedAt: 2025-02-03 17:57:53 -0500 (Mon, 03 Feb 2025) EllapsedTime: 141.2 seconds RetCode: 0 Status: OK PackageFile: CellBarcode_1.13.1.tar.gz PackageFileSize: 2.426 MiB