Package: CellBarcode Version: 1.13.1 Command: E:\biocbuild\bbs-3.21-bioc\R\bin\R.exe CMD INSTALL CellBarcode StartedAt: 2025-02-09 16:52:08 -0500 (Sun, 09 Feb 2025) EndedAt: 2025-02-09 16:54:29 -0500 (Sun, 09 Feb 2025) EllapsedTime: 140.9 seconds RetCode: 0 Status: OK