Package: CellMapper Version: 1.33.0 Maintainer: Brad Nelms MaintainerEmail: bnelms.research at gmail.com git_url: https://git.bioconductor.org/packages/CellMapper git_branch: devel git_last_commit: 5a2c66b git_last_commit_date: 2024-10-29 10:13:12 -0500 (Tue, 29 Oct 2024)