Package: CellMapper Version: 1.33.0 Command: rm -rf CellMapper.buildbin-libdir && mkdir CellMapper.buildbin-libdir && /Users/biocbuild/BBS/utils/build-universal.sh CellMapper_1.33.0.tar.gz /Library/Frameworks/R.framework/Resources/bin/R CellMapper.buildbin-libdir StartedAt: 2025-02-03 22:44:31 -0500 (Mon, 03 Feb 2025) EndedAt: 2025-02-03 22:44:34 -0500 (Mon, 03 Feb 2025) EllapsedTime: 3.1 seconds RetCode: 0 Status: OK PackageFile: CellMapper_1.33.0.tgz PackageFileSize: 350.7 KiB