Package: CellMapper Version: 1.33.0 Command: /Library/Frameworks/R.framework/Resources/bin/R CMD INSTALL CellMapper StartedAt: 2025-02-03 15:37:20 -0500 (Mon, 03 Feb 2025) EndedAt: 2025-02-03 15:37:25 -0500 (Mon, 03 Feb 2025) EllapsedTime: 4.6 seconds RetCode: 0 Status: OK