Package: CellMapper Version: 1.33.0 Command: /home/biocbuild/R/R/bin/R CMD INSTALL CellMapper StartedAt: 2025-01-29 19:32:58 -0000 (Wed, 29 Jan 2025) EndedAt: 2025-01-29 19:33:24 -0000 (Wed, 29 Jan 2025) EllapsedTime: 25.8 seconds RetCode: 0 Status: OK