Package: CellMapper Version: 1.33.0 Command: /Library/Frameworks/R.framework/Resources/bin/R CMD build --keep-empty-dirs --no-resave-data CellMapper StartedAt: 2025-02-09 16:11:59 -0500 (Sun, 09 Feb 2025) EndedAt: 2025-02-09 16:13:40 -0500 (Sun, 09 Feb 2025) EllapsedTime: 100.5 seconds RetCode: 0 Status: OK PackageFile: CellMapper_1.33.0.tar.gz PackageFileSize: 206.2 KiB