Package: CellMapper Version: 1.33.0 Command: /Library/Frameworks/R.framework/Resources/bin/R CMD check --install=check:CellMapper.install-out.txt --library=/Library/Frameworks/R.framework/Resources/library --no-vignettes --timings CellMapper_1.33.0.tar.gz StartedAt: 2025-02-03 19:29:44 -0500 (Mon, 03 Feb 2025) EndedAt: 2025-02-03 19:32:49 -0500 (Mon, 03 Feb 2025) EllapsedTime: 186.0 seconds RetCode: 0 Status: WARNINGS CheckDir: CellMapper.Rcheck Warnings: 1