Package: CellMapper Version: 1.33.0 Command: rm -rf CellMapper.buildbin-libdir && mkdir CellMapper.buildbin-libdir && E:\biocbuild\bbs-3.21-bioc\R\bin\R.exe CMD INSTALL --build --library=CellMapper.buildbin-libdir CellMapper_1.33.0.tar.gz StartedAt: 2025-02-04 07:38:53 -0500 (Tue, 04 Feb 2025) EndedAt: 2025-02-04 07:39:19 -0500 (Tue, 04 Feb 2025) EllapsedTime: 25.6 seconds RetCode: 0 Status: OK PackageFile: CellMapper_1.33.0.zip PackageFileSize: 354.5 KiB