Package: CellMapper Version: 1.33.0 Command: chmod a+r CellMapper -R && E:\biocbuild\bbs-3.21-bioc\R\bin\R.exe CMD build --keep-empty-dirs --no-resave-data CellMapper StartedAt: 2025-02-09 17:43:49 -0500 (Sun, 09 Feb 2025) EndedAt: 2025-02-09 17:46:53 -0500 (Sun, 09 Feb 2025) EllapsedTime: 183.7 seconds RetCode: 0 Status: OK PackageFile: CellMapper_1.33.0.tar.gz PackageFileSize: 207.1 KiB