Package: CellMapper Version: 1.33.0 Command: E:\biocbuild\bbs-3.21-bioc\R\bin\R.exe CMD check --no-multiarch --install=check:CellMapper.install-out.txt --library=E:\biocbuild\bbs-3.21-bioc\R\library --no-vignettes --timings CellMapper_1.33.0.tar.gz StartedAt: 2025-02-09 23:29:20 -0500 (Sun, 09 Feb 2025) EndedAt: 2025-02-09 23:33:05 -0500 (Sun, 09 Feb 2025) EllapsedTime: 225.2 seconds RetCode: 0 Status: WARNINGS CheckDir: CellMapper.Rcheck Warnings: 1