Package: CellMapper Version: 1.33.0 Command: E:\biocbuild\bbs-3.21-bioc\R\bin\R.exe CMD INSTALL CellMapper StartedAt: 2025-02-03 15:39:11 -0500 (Mon, 03 Feb 2025) EndedAt: 2025-02-03 15:39:30 -0500 (Mon, 03 Feb 2025) EllapsedTime: 19.0 seconds RetCode: 0 Status: OK