Package: CellNOptR Version: 1.53.0 Command: /home/biocbuild/R/R/bin/R CMD build --keep-empty-dirs --no-resave-data CellNOptR StartedAt: 2025-01-28 21:39:53 -0000 (Tue, 28 Jan 2025) EndedAt: 2025-01-28 21:40:29 -0000 (Tue, 28 Jan 2025) EllapsedTime: 36.0 seconds RetCode: 0 Status: OK PackageFile: CellNOptR_1.53.0.tar.gz PackageFileSize: 3.324 MiB