Package: CellNOptR Version: 1.53.0 Command: rm -rf CellNOptR.buildbin-libdir && mkdir CellNOptR.buildbin-libdir && /Users/biocbuild/BBS/utils/build-universal.sh CellNOptR_1.53.0.tar.gz /Library/Frameworks/R.framework/Resources/bin/R CellNOptR.buildbin-libdir StartedAt: 2025-02-10 00:45:42 -0500 (Mon, 10 Feb 2025) EndedAt: 2025-02-10 00:46:08 -0500 (Mon, 10 Feb 2025) EllapsedTime: 26.6 seconds RetCode: 0 Status: OK PackageFile: CellNOptR_1.53.0.tgz PackageFileSize: 2.888 MiB