Package: CellNOptR Version: 1.53.0 Command: /Library/Frameworks/R.framework/Resources/bin/R CMD build --keep-empty-dirs --no-resave-data CellNOptR StartedAt: 2025-02-09 16:12:11 -0500 (Sun, 09 Feb 2025) EndedAt: 2025-02-09 16:12:42 -0500 (Sun, 09 Feb 2025) EllapsedTime: 30.8 seconds RetCode: 0 Status: OK PackageFile: CellNOptR_1.53.0.tar.gz PackageFileSize: 3.59 MiB