Package: CellNOptR Version: 1.53.0 Command: /Library/Frameworks/R.framework/Resources/bin/R CMD INSTALL CellNOptR StartedAt: 2025-02-09 15:24:15 -0500 (Sun, 09 Feb 2025) EndedAt: 2025-02-09 15:24:39 -0500 (Sun, 09 Feb 2025) EllapsedTime: 24.3 seconds RetCode: 0 Status: OK