Package: CellNOptR Version: 1.53.0 Command: /home/biocbuild/bbs-3.21-bioc/R/bin/R CMD build --keep-empty-dirs --no-resave-data CellNOptR StartedAt: 2025-02-04 16:32:00 -0500 (Tue, 04 Feb 2025) EndedAt: 2025-02-04 16:32:26 -0500 (Tue, 04 Feb 2025) EllapsedTime: 26.0 seconds RetCode: 0 Status: OK PackageFile: CellNOptR_1.53.0.tar.gz PackageFileSize: 3.537 MiB