Package: CellNOptR Version: 1.53.0 Command: chmod a+r CellNOptR -R && E:\biocbuild\bbs-3.21-bioc\R\bin\R.exe CMD build --keep-empty-dirs --no-resave-data CellNOptR StartedAt: 2025-02-04 17:41:56 -0500 (Tue, 04 Feb 2025) EndedAt: 2025-02-04 17:43:07 -0500 (Tue, 04 Feb 2025) EllapsedTime: 71.4 seconds RetCode: 0 Status: OK PackageFile: CellNOptR_1.53.0.tar.gz PackageFileSize: 3.262 MiB