Package: CellNOptR Version: 1.53.0 Command: E:\biocbuild\bbs-3.21-bioc\R\bin\R.exe CMD INSTALL CellNOptR StartedAt: 2025-02-04 15:45:30 -0500 (Tue, 04 Feb 2025) EndedAt: 2025-02-04 15:46:34 -0500 (Tue, 04 Feb 2025) EllapsedTime: 63.8 seconds RetCode: 0 Status: OK