Package: CellScore Version: 1.27.0 Command: rm -rf CellScore.buildbin-libdir && mkdir CellScore.buildbin-libdir && /Users/biocbuild/BBS/utils/build-universal.sh CellScore_1.27.0.tar.gz /Library/Frameworks/R.framework/Resources/bin/R CellScore.buildbin-libdir StartedAt: 2025-02-05 22:13:43 -0500 (Wed, 05 Feb 2025) EndedAt: 2025-02-05 22:13:52 -0500 (Wed, 05 Feb 2025) EllapsedTime: 9.2 seconds RetCode: 0 Status: OK PackageFile: CellScore_1.27.0.tgz PackageFileSize: 4.269 MiB